BEGIN:VCALENDAR
VERSION:2.0
PRODID:-//Yoga with Ann - ECPv6.15.20//NONSGML v1.0//EN
CALSCALE:GREGORIAN
METHOD:PUBLISH
X-WR-CALNAME:Yoga with Ann
X-ORIGINAL-URL:https://www.anncates.com
X-WR-CALDESC:Events for Yoga with Ann
REFRESH-INTERVAL;VALUE=DURATION:PT1H
X-Robots-Tag:noindex
X-PUBLISHED-TTL:PT1H
BEGIN:VTIMEZONE
TZID:UTC
BEGIN:STANDARD
TZOFFSETFROM:+0000
TZOFFSETTO:+0000
TZNAME:UTC
DTSTART:20240101T000000
END:STANDARD
END:VTIMEZONE
BEGIN:VEVENT
DTSTART;TZID=UTC:20251211T130000
DTEND;TZID=UTC:20251211T140000
DTSTAMP:20260423T193311
CREATED:20251015T170940Z
LAST-MODIFIED:20251015T170940Z
UID:1152-1765458000-1765461600@www.anncates.com
SUMMARY:Holy stretching and a Bible meditation - Small group
DESCRIPTION:This is a gentle core strengthening with a bible meditation and breath work. \nSpace is extremely limited so rvsp is required to reserve your place and for directions. We break for holidays so confirmation is necessary.  Zoom is also available if you can’t come in person. Contact me for the link.
URL:https://www.anncates.com/class/small-group-yoga-holy-stretching-and-a-bible-meditation/2025-12-11/
LOCATION:Private
CATEGORIES:Yoga for everyone
ATTACH;FMTTYPE=image/jpeg:https://www.anncates.com/wp-content/uploads/2018/11/home.jpg
ORGANIZER;CN="Ann Cates":MAILTO:cates.ann@gmail.com
END:VEVENT
BEGIN:VEVENT
DTSTART;TZID=UTC:20251204T130000
DTEND;TZID=UTC:20251204T140000
DTSTAMP:20260423T193311
CREATED:20251015T170940Z
LAST-MODIFIED:20251015T170940Z
UID:1151-1764853200-1764856800@www.anncates.com
SUMMARY:Holy stretching and a Bible meditation - Small group
DESCRIPTION:This is a gentle core strengthening with a bible meditation and breath work. \nSpace is extremely limited so rvsp is required to reserve your place and for directions. We break for holidays so confirmation is necessary.  Zoom is also available if you can’t come in person. Contact me for the link.
URL:https://www.anncates.com/class/small-group-yoga-holy-stretching-and-a-bible-meditation/2025-12-04/
LOCATION:Private
CATEGORIES:Yoga for everyone
ATTACH;FMTTYPE=image/jpeg:https://www.anncates.com/wp-content/uploads/2018/11/home.jpg
ORGANIZER;CN="Ann Cates":MAILTO:cates.ann@gmail.com
END:VEVENT
BEGIN:VEVENT
DTSTART;TZID=UTC:20251120T130000
DTEND;TZID=UTC:20251120T140000
DTSTAMP:20260423T193311
CREATED:20251015T170940Z
LAST-MODIFIED:20251015T170940Z
UID:1150-1763643600-1763647200@www.anncates.com
SUMMARY:Holy stretching and a Bible meditation - Small group
DESCRIPTION:This is a gentle core strengthening with a bible meditation and breath work. \nSpace is extremely limited so rvsp is required to reserve your place and for directions. We break for holidays so confirmation is necessary.  Zoom is also available if you can’t come in person. Contact me for the link.
URL:https://www.anncates.com/class/small-group-yoga-holy-stretching-and-a-bible-meditation/2025-11-20/
LOCATION:Private
CATEGORIES:Yoga for everyone
ATTACH;FMTTYPE=image/jpeg:https://www.anncates.com/wp-content/uploads/2018/11/home.jpg
ORGANIZER;CN="Ann Cates":MAILTO:cates.ann@gmail.com
END:VEVENT
BEGIN:VEVENT
DTSTART;TZID=UTC:20251113T130000
DTEND;TZID=UTC:20251113T140000
DTSTAMP:20260423T193311
CREATED:20251015T170940Z
LAST-MODIFIED:20251015T170940Z
UID:1149-1763038800-1763042400@www.anncates.com
SUMMARY:Holy stretching and a Bible meditation - Small group
DESCRIPTION:This is a gentle core strengthening with a bible meditation and breath work. \nSpace is extremely limited so rvsp is required to reserve your place and for directions. We break for holidays so confirmation is necessary.  Zoom is also available if you can’t come in person. Contact me for the link.
URL:https://www.anncates.com/class/small-group-yoga-holy-stretching-and-a-bible-meditation/2025-11-13/
LOCATION:Private
CATEGORIES:Yoga for everyone
ATTACH;FMTTYPE=image/jpeg:https://www.anncates.com/wp-content/uploads/2018/11/home.jpg
ORGANIZER;CN="Ann Cates":MAILTO:cates.ann@gmail.com
END:VEVENT
BEGIN:VEVENT
DTSTART;TZID=UTC:20251106T130000
DTEND;TZID=UTC:20251106T140000
DTSTAMP:20260423T193311
CREATED:20251015T170940Z
LAST-MODIFIED:20251015T170940Z
UID:1148-1762434000-1762437600@www.anncates.com
SUMMARY:Holy stretching and a Bible meditation - Small group
DESCRIPTION:This is a gentle core strengthening with a bible meditation and breath work. \nSpace is extremely limited so rvsp is required to reserve your place and for directions. We break for holidays so confirmation is necessary.  Zoom is also available if you can’t come in person. Contact me for the link.
URL:https://www.anncates.com/class/small-group-yoga-holy-stretching-and-a-bible-meditation/2025-11-06/
LOCATION:Private
CATEGORIES:Yoga for everyone
ATTACH;FMTTYPE=image/jpeg:https://www.anncates.com/wp-content/uploads/2018/11/home.jpg
ORGANIZER;CN="Ann Cates":MAILTO:cates.ann@gmail.com
END:VEVENT
BEGIN:VEVENT
DTSTART;TZID=UTC:20251030T130000
DTEND;TZID=UTC:20251030T140000
DTSTAMP:20260423T193311
CREATED:20251015T170940Z
LAST-MODIFIED:20251015T170940Z
UID:1147-1761829200-1761832800@www.anncates.com
SUMMARY:Holy stretching and a Bible meditation - Small group
DESCRIPTION:This is a gentle core strengthening with a bible meditation and breath work. \nSpace is extremely limited so rvsp is required to reserve your place and for directions. We break for holidays so confirmation is necessary.  Zoom is also available if you can’t come in person. Contact me for the link.
URL:https://www.anncates.com/class/small-group-yoga-holy-stretching-and-a-bible-meditation/2025-10-30/
LOCATION:Private
CATEGORIES:Yoga for everyone
ATTACH;FMTTYPE=image/jpeg:https://www.anncates.com/wp-content/uploads/2018/11/home.jpg
ORGANIZER;CN="Ann Cates":MAILTO:cates.ann@gmail.com
END:VEVENT
BEGIN:VEVENT
DTSTART;TZID=UTC:20251023T130000
DTEND;TZID=UTC:20251023T140000
DTSTAMP:20260423T193311
CREATED:20251015T170940Z
LAST-MODIFIED:20251015T170940Z
UID:1146-1761224400-1761228000@www.anncates.com
SUMMARY:Holy stretching and a Bible meditation - Small group
DESCRIPTION:This is a gentle core strengthening with a bible meditation and breath work. \nSpace is extremely limited so rvsp is required to reserve your place and for directions. We break for holidays so confirmation is necessary.  Zoom is also available if you can’t come in person. Contact me for the link.
URL:https://www.anncates.com/class/small-group-yoga-holy-stretching-and-a-bible-meditation/2025-10-23/
LOCATION:Private
CATEGORIES:Yoga for everyone
ATTACH;FMTTYPE=image/jpeg:https://www.anncates.com/wp-content/uploads/2018/11/home.jpg
ORGANIZER;CN="Ann Cates":MAILTO:cates.ann@gmail.com
END:VEVENT
BEGIN:VEVENT
DTSTART;TZID=UTC:20251016T130000
DTEND;TZID=UTC:20251016T140000
DTSTAMP:20260423T193311
CREATED:20251015T170940Z
LAST-MODIFIED:20251015T171356Z
UID:1134-1760619600-1760623200@www.anncates.com
SUMMARY:Holy stretching and a Bible meditation - Small group
DESCRIPTION:This is a gentle core strengthening with a bible meditation and breath work. \nSpace is extremely limited so rvsp is required to reserve your place and for directions. We break for holidays so confirmation is necessary.  Zoom is also available if you can’t come in person. Contact me for the link.
URL:https://www.anncates.com/class/small-group-yoga-holy-stretching-and-a-bible-meditation/2025-10-16/
LOCATION:Private
CATEGORIES:Yoga for everyone
ATTACH;FMTTYPE=image/jpeg:https://www.anncates.com/wp-content/uploads/2018/11/home.jpg
ORGANIZER;CN="Ann Cates":MAILTO:cates.ann@gmail.com
END:VEVENT
END:VCALENDAR