BEGIN:VCALENDAR
VERSION:2.0
PRODID:-//Yoga with Ann - ECPv6.15.20//NONSGML v1.0//EN
CALSCALE:GREGORIAN
METHOD:PUBLISH
X-WR-CALNAME:Yoga with Ann
X-ORIGINAL-URL:https://www.anncates.com
X-WR-CALDESC:Events for Yoga with Ann
REFRESH-INTERVAL;VALUE=DURATION:PT1H
X-Robots-Tag:noindex
X-PUBLISHED-TTL:PT1H
BEGIN:VTIMEZONE
TZID:UTC
BEGIN:STANDARD
TZOFFSETFROM:+0000
TZOFFSETTO:+0000
TZNAME:UTC
DTSTART:20180101T000000
END:STANDARD
END:VTIMEZONE
BEGIN:VEVENT
DTSTART;TZID=UTC:20190922T080000
DTEND;TZID=UTC:20190922T170000
DTSTAMP:20260424T021709
CREATED:20190922T203513Z
LAST-MODIFIED:20190922T203513Z
UID:374-1569139200-1569171600@www.anncates.com
SUMMARY:Gentle Holy Yoga
DESCRIPTION:This is a 60 minute gentle flow\, breath work\, stretching and a biblical heart meditation.  Just what you need to reset your body\, mind and spirit. Come expecting!  Please arrive a few minutes early to sign in and find your spot. We start and end promptly so you can plan your day. I’ll have you out on time too! \nFAQ: \n*Classes are 60 minutes \n*Wear loose clothing\, bring a yoga mat if you have one\, or I have some available. \n*Cost: $10 suggested donation \n*No sign-up required. Just show up!!
URL:https://www.anncates.com/class/gentle-holy-yoga-10/
LOCATION:Galloway Chiropractic\, 9410 FM 1960\, Houston\, TX\, 77070\, United States
ORGANIZER;CN="Ann Cates":MAILTO:cates.ann@gmail.com
END:VEVENT
BEGIN:VEVENT
DTSTART;TZID=UTC:20190907T090000
DTEND;TZID=UTC:20190907T130000
DTSTAMP:20260424T021709
CREATED:20190822T180824Z
LAST-MODIFIED:20190822T180824Z
UID:357-1567846800-1567861200@www.anncates.com
SUMMARY:Holy Yoga Experience
DESCRIPTION:Register here: \nhttps://holyyoga.net/hyexperience/
URL:https://www.anncates.com/class/holy-yoga-experience/
LOCATION:Trinity Vineyard Church\, 17150 Spring Cypress Road\, Cypress\, TX\, 77429
ORGANIZER;CN="Ann Cates":MAILTO:cates.ann@gmail.com
END:VEVENT
BEGIN:VEVENT
DTSTART;TZID=UTC:20190829T183000
DTEND;TZID=UTC:20190829T193000
DTSTAMP:20260424T021709
CREATED:20190629T230724Z
LAST-MODIFIED:20190629T230724Z
UID:348-1567103400-1567107000@www.anncates.com
SUMMARY:Holy Yoga - Level 1/2
DESCRIPTION:This is a 60 minute flow\, with more advanced postures than the gentle flow. We always do breath work\, stretching and a biblical heart meditation.  Just what you need to reset your body\, mind and spirit. Come expecting! \n  \nFAQ: \n*Classes are 60 minutes \n*Wear loose clothing\, bring a yoga mat if you have one\, or I have some available. \n*Cost: $10 suggested donation \n*No sign-up required. Just show up!!
URL:https://www.anncates.com/class/holy-yoga-level-1-2-5/
LOCATION:Galloway Chiropractic\, 9410 FM 1960\, Houston\, TX\, 77070\, United States
ORGANIZER;CN="Ann Cates":MAILTO:cates.ann@gmail.com
END:VEVENT
BEGIN:VEVENT
DTSTART;TZID=UTC:20190827T120000
DTEND;TZID=UTC:20190827T130000
DTSTAMP:20260424T021709
CREATED:20190629T225422Z
LAST-MODIFIED:20190629T230913Z
UID:337-1566907200-1566910800@www.anncates.com
SUMMARY:Gentle Flow
DESCRIPTION:This is a 60 minute gentle flow\, breath work\, stretching and a biblical heart meditation.  Just what you need to reset your body\, mind and spirit. Come expecting!  Please arrive a few minutes early to sign in and find your spot. We start and end promptly so you can plan your day. I’ll have you out on time too! \n  \nFAQ:*Classes are 60 minutes*Wear loose clothing\, bring a yoga mat if you have one\, or I have some available.*Cost: $10 suggested donation*No sign-up required. Just show up!!
URL:https://www.anncates.com/class/gentle-flow-23/
LOCATION:Galloway Chiropractic\, 9410 FM 1960\, Houston\, TX\, 77070\, United States
ORGANIZER;CN="Ann Cates":MAILTO:cates.ann@gmail.com
END:VEVENT
BEGIN:VEVENT
DTSTART;VALUE=DATE:20190822
DTEND;VALUE=DATE:20190823
DTSTAMP:20260424T021709
CREATED:20190629T230620Z
LAST-MODIFIED:20190822T175250Z
UID:346-1566432000-1566518399@www.anncates.com
SUMMARY:No Thursday class on 8-22
DESCRIPTION:
URL:https://www.anncates.com/class/holy-yoga-level-1-2-4/
LOCATION:TX\, United States
ORGANIZER;CN="Ann Cates":MAILTO:cates.ann@gmail.com
END:VEVENT
BEGIN:VEVENT
DTSTART;TZID=UTC:20190820T120000
DTEND;TZID=UTC:20190820T130000
DTSTAMP:20260424T021709
CREATED:20190629T225325Z
LAST-MODIFIED:20190629T230057Z
UID:334-1566302400-1566306000@www.anncates.com
SUMMARY:Gentle Flow
DESCRIPTION:This is a 60 minute gentle flow\, breath work\, stretching and a biblical heart meditation.  Just what you need to reset your body\, mind and spirit. Come expecting!  Please arrive a few minutes early to sign in and find your spot. We start and end promptly so you can plan your day. I’ll have you out on time too! \n  \nFAQ:*Classes are 60 minutes*Wear loose clothing\, bring a yoga mat if you have one\, or I have some available.*Cost: $10 suggested donation*No sign-up required. Just show up!!
URL:https://www.anncates.com/class/gentle-flow-22/
LOCATION:TX
ORGANIZER;CN="Ann Cates":MAILTO:cates.ann@gmail.com
END:VEVENT
BEGIN:VEVENT
DTSTART;TZID=UTC:20190815T183000
DTEND;TZID=UTC:20190815T193000
DTSTAMP:20260424T021709
CREATED:20190629T225826Z
LAST-MODIFIED:20190629T225826Z
UID:344-1565893800-1565897400@www.anncates.com
SUMMARY:Holy Yoga - Level 1/2
DESCRIPTION:This is a 60 minute flow\, with more advanced postures than the gentle flow. We always do breath work\, stretching and a biblical heart meditation.  Just what you need to reset your body\, mind and spirit. Come expecting! \n  \nFAQ: \n*Classes are 60 minutes \n*Wear loose clothing\, bring a yoga mat if you have one\, or I have some available. \n*Cost: $10 suggested donation \n*No sign-up required. Just show up!!
URL:https://www.anncates.com/class/holy-yoga-level-1-2-3/
LOCATION:Galloway Chiropractic\, 9410 FM 1960\, Houston\, TX\, 77070\, United States
ORGANIZER;CN="Ann Cates":MAILTO:cates.ann@gmail.com
END:VEVENT
BEGIN:VEVENT
DTSTART;TZID=UTC:20190813T120000
DTEND;TZID=UTC:20190813T130000
DTSTAMP:20260424T021709
CREATED:20190629T225223Z
LAST-MODIFIED:20190629T230154Z
UID:332-1565697600-1565701200@www.anncates.com
SUMMARY:Gentle Flow
DESCRIPTION:This is a 60 minute gentle flow\, breath work\, stretching and a biblical heart meditation.  Just what you need to reset your body\, mind and spirit. Come expecting!  Please arrive a few minutes early to sign in and find your spot. We start and end promptly so you can plan your day. I’ll have you out on time too! \n  \nFAQ:*Classes are 60 minutes*Wear loose clothing\, bring a yoga mat if you have one\, or I have some available.*Cost: $10 suggested donation*No sign-up required. Just show up!!
URL:https://www.anncates.com/class/gentle-flow-21/
LOCATION:Galloway Chiropractic\, 9410 FM 1960\, Houston\, TX\, 77070\, United States
ORGANIZER;CN="Ann Cates":MAILTO:cates.ann@gmail.com
END:VEVENT
BEGIN:VEVENT
DTSTART;TZID=UTC:20190808T183000
DTEND;TZID=UTC:20190808T193000
DTSTAMP:20260424T021709
CREATED:20190629T225715Z
LAST-MODIFIED:20190629T230245Z
UID:342-1565289000-1565292600@www.anncates.com
SUMMARY:Holy Yoga - Level 1/2
DESCRIPTION:This is a 60 minute flow\, with more advanced postures than the gentle flow. We always do breath work\, stretching and a biblical heart meditation.  Just what you need to reset your body\, mind and spirit. Come expecting! \n  \nFAQ: \n*Classes are 60 minutes \n*Wear loose clothing\, bring a yoga mat if you have one\, or I have some available. \n*Cost: $10 suggested donation \n*No sign-up required. Just show up!!
URL:https://www.anncates.com/class/holy-yoga-level-1-2-2/
LOCATION:Galloway Chiropractic\, 9410 FM 1960\, Houston\, TX\, 77070\, United States
ORGANIZER;CN="Ann Cates":MAILTO:cates.ann@gmail.com
END:VEVENT
BEGIN:VEVENT
DTSTART;TZID=UTC:20190806T120000
DTEND;TZID=UTC:20190806T130000
DTSTAMP:20260424T021709
CREATED:20190629T225102Z
LAST-MODIFIED:20190629T230321Z
UID:330-1565092800-1565096400@www.anncates.com
SUMMARY:Gentle Flow
DESCRIPTION:This is a 60 minute gentle flow\, breath work\, stretching and a biblical heart meditation.  Just what you need to reset your body\, mind and spirit. Come expecting!  Please arrive a few minutes early to sign in and find your spot. We start and end promptly so you can plan your day. I’ll have you out on time too! \nFAQ:*Classes are 60 minutes*Wear loose clothing\, bring a yoga mat if you have one\, or I have some available.*Cost: $10 suggested donation*No sign-up required. Just show up!!
URL:https://www.anncates.com/class/gentle-flow-20/
LOCATION:Galloway Chiropractic\, 9410 FM 1960\, Houston\, TX\, 77070\, United States
ORGANIZER;CN="Ann Cates":MAILTO:cates.ann@gmail.com
END:VEVENT
END:VCALENDAR