BEGIN:VCALENDAR
VERSION:2.0
PRODID:-//Yoga with Ann - ECPv6.15.20//NONSGML v1.0//EN
CALSCALE:GREGORIAN
METHOD:PUBLISH
X-ORIGINAL-URL:https://www.anncates.com
X-WR-CALDESC:Events for Yoga with Ann
REFRESH-INTERVAL;VALUE=DURATION:PT1H
X-Robots-Tag:noindex
X-PUBLISHED-TTL:PT1H
BEGIN:VTIMEZONE
TZID:UTC
BEGIN:STANDARD
TZOFFSETFROM:+0000
TZOFFSETTO:+0000
TZNAME:UTC
DTSTART:20180101T000000
END:STANDARD
END:VTIMEZONE
BEGIN:VEVENT
DTSTART;TZID=UTC:20191107T183000
DTEND;TZID=UTC:20191107T193000
DTSTAMP:20260424T003240
CREATED:20191104T193019Z
LAST-MODIFIED:20191104T193019Z
UID:424-1573151400-1573155000@www.anncates.com
SUMMARY:Holy Yoga - Level Two
DESCRIPTION:This is a 60 minute flow\, with more advanced postures than the gentle flow. We always do breath work\, stretching and a biblical heart meditation. Just what you need to reset your body\, mind and spirit. Come expecting! \nFAQ:\n*Classes are 60 minutes\n*Wear loose clothing\, bring a yoga mat if you have one\, or I have some available.\n*Cost: $10 suggested donation\n*No sign-up required. Just show up!!
URL:https://www.anncates.com/class/holy-yoga-level-two-10/
LOCATION:Galloway Chiropractic\, 9410 FM 1960\, Houston\, TX\, 77070\, United States
ORGANIZER;CN="Ann Cates":MAILTO:cates.ann@gmail.com
END:VEVENT
BEGIN:VEVENT
DTSTART;TZID=UTC:20191105T120000
DTEND;TZID=UTC:20191105T130000
DTSTAMP:20260424T003240
CREATED:20191104T192439Z
LAST-MODIFIED:20191104T192439Z
UID:415-1572955200-1572958800@www.anncates.com
SUMMARY:Gentle Holy Yoga
DESCRIPTION:This is a 60 minute gentle flow\, breath work\, stretching and a biblical heart meditation.  Just what you need to reset your body\, mind and spirit. Come expecting!  Please arrive a few minutes early to sign in and find your spot. We start and end promptly so you can plan your day. I’ll have you out on time too! \nFAQ: \n*Classes are 60 minutes \n*Wear loose clothing\, bring a yoga mat if you have one\, or I have some available. \n*Cost: $10 suggested donation \n*No sign-up required. Just show up!!
URL:https://www.anncates.com/class/gentle-holy-yoga-15/
LOCATION:Galloway Chiropractic\, 9410 FM 1960\, Houston\, TX\, 77070\, United States
ORGANIZER;CN="Ann Cates":MAILTO:cates.ann@gmail.com
END:VEVENT
BEGIN:VEVENT
DTSTART;VALUE=DATE:20191031
DTEND;VALUE=DATE:20191101
DTSTAMP:20260424T003240
CREATED:20190922T205817Z
LAST-MODIFIED:20190922T210642Z
UID:396-1572480000-1572566399@www.anncates.com
SUMMARY:No class on Halloween
DESCRIPTION:Enjoy your family or just stay home and rest!
URL:https://www.anncates.com/class/no-class-on-halloween/
LOCATION:TX
END:VEVENT
BEGIN:VEVENT
DTSTART;TZID=UTC:20191029T080000
DTEND;TZID=UTC:20191029T170000
DTSTAMP:20260424T003240
CREATED:20190922T204214Z
LAST-MODIFIED:20190922T204214Z
UID:384-1572336000-1572368400@www.anncates.com
SUMMARY:Gentle Holy Yoga
DESCRIPTION:This is a 60 minute gentle flow\, breath work\, stretching and a biblical heart meditation.  Just what you need to reset your body\, mind and spirit. Come expecting!  Please arrive a few minutes early to sign in and find your spot. We start and end promptly so you can plan your day. I’ll have you out on time too! \nFAQ: \n*Classes are 60 minutes \n*Wear loose clothing\, bring a yoga mat if you have one\, or I have some available. \n*Cost: $10 suggested donation \n*No sign-up required. Just show up!!
URL:https://www.anncates.com/class/gentle-holy-yoga-14/
LOCATION:Galloway Chiropractic\, 9410 FM 1960\, Houston\, TX\, 77070\, United States
ORGANIZER;CN="Ann Cates":MAILTO:cates.ann@gmail.com
END:VEVENT
BEGIN:VEVENT
DTSTART;TZID=UTC:20191024T183000
DTEND;TZID=UTC:20191024T193000
DTSTAMP:20260424T003240
CREATED:20190922T205230Z
LAST-MODIFIED:20190922T205418Z
UID:394-1571941800-1571945400@www.anncates.com
SUMMARY:Holy Yoga - Level Two
DESCRIPTION:This is a 60 minute flow\, with more advanced postures than the gentle flow. We always do breath work\, stretching and a biblical heart meditation. Just what you need to reset your body\, mind and spirit. Come expecting! \nFAQ:\n*Classes are 60 minutes\n*Wear loose clothing\, bring a yoga mat if you have one\, or I have some available.\n*Cost: $10 suggested donation\n*No sign-up required. Just show up!!
URL:https://www.anncates.com/class/holy-yoga-level-two-9/
LOCATION:Galloway Chiropractic\, 9410 FM 1960\, Houston\, TX\, 77070\, United States
ORGANIZER;CN="Ann Cates":MAILTO:cates.ann@gmail.com
END:VEVENT
BEGIN:VEVENT
DTSTART;TZID=UTC:20191022T080000
DTEND;TZID=UTC:20191022T170000
DTSTAMP:20260424T003240
CREATED:20190922T204054Z
LAST-MODIFIED:20190922T204054Z
UID:382-1571731200-1571763600@www.anncates.com
SUMMARY:Gentle Holy Yoga
DESCRIPTION:This is a 60 minute gentle flow\, breath work\, stretching and a biblical heart meditation.  Just what you need to reset your body\, mind and spirit. Come expecting!  Please arrive a few minutes early to sign in and find your spot. We start and end promptly so you can plan your day. I’ll have you out on time too! \nFAQ: \n*Classes are 60 minutes \n*Wear loose clothing\, bring a yoga mat if you have one\, or I have some available. \n*Cost: $10 suggested donation \n*No sign-up required. Just show up!!
URL:https://www.anncates.com/class/gentle-holy-yoga-13/
LOCATION:Galloway Chiropractic\, 9410 FM 1960\, Houston\, TX\, 77070\, United States
ORGANIZER;CN="Ann Cates":MAILTO:cates.ann@gmail.com
END:VEVENT
BEGIN:VEVENT
DTSTART;TZID=UTC:20191017T183000
DTEND;TZID=UTC:20191017T193000
DTSTAMP:20260424T003240
CREATED:20190922T204936Z
LAST-MODIFIED:20190922T205027Z
UID:392-1571337000-1571340600@www.anncates.com
SUMMARY:Holy Yoga - Level Two
DESCRIPTION:This is a 60 minute flow\, with more advanced postures than the gentle flow. We always do breath work\, stretching and a biblical heart meditation. Just what you need to reset your body\, mind and spirit. Come expecting! \nFAQ:\n*Classes are 60 minutes\n*Wear loose clothing\, bring a yoga mat if you have one\, or I have some available.\n*Cost: $10 suggested donation\n*No sign-up required. Just show up!!
URL:https://www.anncates.com/class/holy-yoga-level-two-8/
LOCATION:Galloway Chiropractic\, 9410 FM 1960\, Houston\, TX\, 77070\, United States
ORGANIZER;CN="Ann Cates":MAILTO:cates.ann@gmail.com
END:VEVENT
BEGIN:VEVENT
DTSTART;TZID=UTC:20191015T120000
DTEND;TZID=UTC:20191015T130000
DTSTAMP:20260424T003240
CREATED:20190922T203953Z
LAST-MODIFIED:20190922T203953Z
UID:380-1571140800-1571144400@www.anncates.com
SUMMARY:Gentle Holy Yoga
DESCRIPTION:This is a 60 minute gentle flow\, breath work\, stretching and a biblical heart meditation.  Just what you need to reset your body\, mind and spirit. Come expecting!  Please arrive a few minutes early to sign in and find your spot. We start and end promptly so you can plan your day. I’ll have you out on time too! \nFAQ: \n*Classes are 60 minutes \n*Wear loose clothing\, bring a yoga mat if you have one\, or I have some available. \n*Cost: $10 suggested donation \n*No sign-up required. Just show up!!
URL:https://www.anncates.com/class/gentle-holy-yoga-12/
LOCATION:Galloway Chiropractic\, 9410 FM 1960\, Houston\, TX\, 77070\, United States
ORGANIZER;CN="Ann Cates":MAILTO:cates.ann@gmail.com
END:VEVENT
BEGIN:VEVENT
DTSTART;TZID=UTC:20191010T183000
DTEND;TZID=UTC:20191010T193000
DTSTAMP:20260424T003240
CREATED:20190922T204819Z
LAST-MODIFIED:20190922T204819Z
UID:390-1570732200-1570735800@www.anncates.com
SUMMARY:Holy Yoga - Level Two
DESCRIPTION:This is a 60 minute flow\, with more advanced postures than the gentle flow. We always do breath work\, stretching and a biblical heart meditation. Just what you need to reset your body\, mind and spirit. Come expecting! \nFAQ:\n*Classes are 60 minutes\n*Wear loose clothing\, bring a yoga mat if you have one\, or I have some available.\n*Cost: $10 suggested donation\n*No sign-up required. Just show up!!
URL:https://www.anncates.com/class/holy-yoga-level-two-7/
LOCATION:Galloway Chiropractic\, 9410 FM 1960\, Houston\, TX\, 77070\, United States
ORGANIZER;CN="Ann Cates":MAILTO:cates.ann@gmail.com
END:VEVENT
BEGIN:VEVENT
DTSTART;TZID=UTC:20191008T120000
DTEND;TZID=UTC:20191008T130000
DTSTAMP:20260424T003240
CREATED:20190922T203717Z
LAST-MODIFIED:20190922T203717Z
UID:378-1570536000-1570539600@www.anncates.com
SUMMARY:Gentle Holy Yoga
DESCRIPTION:This is a 60 minute gentle flow\, breath work\, stretching and a biblical heart meditation.  Just what you need to reset your body\, mind and spirit. Come expecting!  Please arrive a few minutes early to sign in and find your spot. We start and end promptly so you can plan your day. I’ll have you out on time too! \nFAQ: \n*Classes are 60 minutes \n*Wear loose clothing\, bring a yoga mat if you have one\, or I have some available. \n*Cost: $10 suggested donation \n*No sign-up required. Just show up!!
URL:https://www.anncates.com/class/gentle-holy-yoga-11/
LOCATION:Galloway Chiropractic\, 9410 FM 1960\, Houston\, TX\, 77070\, United States
ORGANIZER;CN="Ann Cates":MAILTO:cates.ann@gmail.com
END:VEVENT
BEGIN:VEVENT
DTSTART;TZID=UTC:20191003T183000
DTEND;TZID=UTC:20191003T193000
DTSTAMP:20260424T003240
CREATED:20190922T204643Z
LAST-MODIFIED:20190922T204643Z
UID:388-1570127400-1570131000@www.anncates.com
SUMMARY:Holy Yoga - Level Two
DESCRIPTION:This is a 60 minute flow\, with more advanced postures than the gentle flow. We always do breath work\, stretching and a biblical heart meditation. Just what you need to reset your body\, mind and spirit. Come expecting! \nFAQ:\n*Classes are 60 minutes\n*Wear loose clothing\, bring a yoga mat if you have one\, or I have some available.\n*Cost: $10 suggested donation\n*No sign-up required. Just show up!!
URL:https://www.anncates.com/class/holy-yoga-level-two-6/
LOCATION:Galloway Chiropractic\, 9410 FM 1960\, Houston\, TX\, 77070\, United States
ORGANIZER;CN="Ann Cates":MAILTO:cates.ann@gmail.com
END:VEVENT
BEGIN:VEVENT
DTSTART;TZID=UTC:20191001T120000
DTEND;TZID=UTC:20191001T130000
DTSTAMP:20260424T003240
CREATED:20190922T203357Z
LAST-MODIFIED:20190922T203357Z
UID:372-1569931200-1569934800@www.anncates.com
SUMMARY:Gentle Holy Yoga
DESCRIPTION:This is a 60 minute gentle flow\, breath work\, stretching and a biblical heart meditation.  Just what you need to reset your body\, mind and spirit. Come expecting!  Please arrive a few minutes early to sign in and find your spot. We start and end promptly so you can plan your day. I’ll have you out on time too! \nFAQ: \n*Classes are 60 minutes \n*Wear loose clothing\, bring a yoga mat if you have one\, or I have some available. \n*Cost: $10 suggested donation \n*No sign-up required. Just show up!!
URL:https://www.anncates.com/class/gentle-holy-yoga-9/
LOCATION:Galloway Chiropractic\, 9410 FM 1960\, Houston\, TX\, 77070\, United States
ORGANIZER;CN="Ann Cates":MAILTO:cates.ann@gmail.com
END:VEVENT
BEGIN:VEVENT
DTSTART;TZID=UTC:20190926T183000
DTEND;TZID=UTC:20190926T193000
DTSTAMP:20260424T003240
CREATED:20190922T204514Z
LAST-MODIFIED:20190922T204514Z
UID:386-1569522600-1569526200@www.anncates.com
SUMMARY:Holy Yoga - Level Two
DESCRIPTION:This is a 60 minute flow\, with more advanced postures than the gentle flow. We always do breath work\, stretching and a biblical heart meditation. Just what you need to reset your body\, mind and spirit. Come expecting! \nFAQ:\n*Classes are 60 minutes\n*Wear loose clothing\, bring a yoga mat if you have one\, or I have some available.\n*Cost: $10 suggested donation\n*No sign-up required. Just show up!!
URL:https://www.anncates.com/class/holy-yoga-level-two-5/
LOCATION:Galloway Chiropractic\, 9410 FM 1960\, Houston\, TX\, 77070\, United States
ORGANIZER;CN="Ann Cates":MAILTO:cates.ann@gmail.com
END:VEVENT
BEGIN:VEVENT
DTSTART;TZID=UTC:20190924T120000
DTEND;TZID=UTC:20190924T130000
DTSTAMP:20260424T003240
CREATED:20190922T203117Z
LAST-MODIFIED:20190922T203117Z
UID:370-1569326400-1569330000@www.anncates.com
SUMMARY:Gentle Holy Yoga
DESCRIPTION:This is a 60 minute gentle flow\, breath work\, stretching and a biblical heart meditation.  Just what you need to reset your body\, mind and spirit. Come expecting!  Please arrive a few minutes early to sign in and find your spot. We start and end promptly so you can plan your day. I’ll have you out on time too! \nFAQ: \n*Classes are 60 minutes \n*Wear loose clothing\, bring a yoga mat if you have one\, or I have some available. \n*Cost: $10 suggested donation \n*No sign-up required. Just show up!!
URL:https://www.anncates.com/class/gentle-holy-yoga-8/
LOCATION:Galloway Chiropractic\, 9410 FM 1960\, Houston\, TX\, 77070\, United States
ORGANIZER;CN="Ann Cates":MAILTO:cates.ann@gmail.com
END:VEVENT
BEGIN:VEVENT
DTSTART;TZID=UTC:20190922T090000
DTEND;TZID=UTC:20190922T223000
DTSTAMP:20260424T003240
CREATED:20190922T212045Z
LAST-MODIFIED:20190922T212912Z
UID:401-1569142800-1569191400@www.anncates.com
SUMMARY:Yoga in the Park
DESCRIPTION:Come for a morning self care with a holy yoga flow under the beautiful live oaks of Cypress! Following up with an intro to essential oils and a chance to win a special give away! \n\nBring a mat\, towel and water bottle.\nSuggested donation of $15 pp\nEveryone is welcome! Come and bring a friend!!\nContact Ann Cates if you need additional information
URL:https://www.anncates.com/class/yoga-in-the-park/
LOCATION:Park\, 15726 Jacobs Creek Dr\, Cypress\, TX\, 77429\, United States
ORGANIZER;CN="Ann Cates":MAILTO:cates.ann@gmail.com
END:VEVENT
BEGIN:VEVENT
DTSTART;TZID=UTC:20190922T080000
DTEND;TZID=UTC:20190922T170000
DTSTAMP:20260424T003240
CREATED:20190922T203513Z
LAST-MODIFIED:20190922T203513Z
UID:374-1569139200-1569171600@www.anncates.com
SUMMARY:Gentle Holy Yoga
DESCRIPTION:This is a 60 minute gentle flow\, breath work\, stretching and a biblical heart meditation.  Just what you need to reset your body\, mind and spirit. Come expecting!  Please arrive a few minutes early to sign in and find your spot. We start and end promptly so you can plan your day. I’ll have you out on time too! \nFAQ: \n*Classes are 60 minutes \n*Wear loose clothing\, bring a yoga mat if you have one\, or I have some available. \n*Cost: $10 suggested donation \n*No sign-up required. Just show up!!
URL:https://www.anncates.com/class/gentle-holy-yoga-10/
LOCATION:Galloway Chiropractic\, 9410 FM 1960\, Houston\, TX\, 77070\, United States
ORGANIZER;CN="Ann Cates":MAILTO:cates.ann@gmail.com
END:VEVENT
BEGIN:VEVENT
DTSTART;TZID=UTC:20190907T090000
DTEND;TZID=UTC:20190907T130000
DTSTAMP:20260424T003240
CREATED:20190822T180824Z
LAST-MODIFIED:20190822T180824Z
UID:357-1567846800-1567861200@www.anncates.com
SUMMARY:Holy Yoga Experience
DESCRIPTION:Register here: \nhttps://holyyoga.net/hyexperience/
URL:https://www.anncates.com/class/holy-yoga-experience/
LOCATION:Trinity Vineyard Church\, 17150 Spring Cypress Road\, Cypress\, TX\, 77429
ORGANIZER;CN="Ann Cates":MAILTO:cates.ann@gmail.com
END:VEVENT
BEGIN:VEVENT
DTSTART;TZID=UTC:20190829T183000
DTEND;TZID=UTC:20190829T193000
DTSTAMP:20260424T003240
CREATED:20190629T230724Z
LAST-MODIFIED:20190629T230724Z
UID:348-1567103400-1567107000@www.anncates.com
SUMMARY:Holy Yoga - Level 1/2
DESCRIPTION:This is a 60 minute flow\, with more advanced postures than the gentle flow. We always do breath work\, stretching and a biblical heart meditation.  Just what you need to reset your body\, mind and spirit. Come expecting! \n  \nFAQ: \n*Classes are 60 minutes \n*Wear loose clothing\, bring a yoga mat if you have one\, or I have some available. \n*Cost: $10 suggested donation \n*No sign-up required. Just show up!!
URL:https://www.anncates.com/class/holy-yoga-level-1-2-5/
LOCATION:Galloway Chiropractic\, 9410 FM 1960\, Houston\, TX\, 77070\, United States
ORGANIZER;CN="Ann Cates":MAILTO:cates.ann@gmail.com
END:VEVENT
BEGIN:VEVENT
DTSTART;TZID=UTC:20190827T120000
DTEND;TZID=UTC:20190827T130000
DTSTAMP:20260424T003240
CREATED:20190629T225422Z
LAST-MODIFIED:20190629T230913Z
UID:337-1566907200-1566910800@www.anncates.com
SUMMARY:Gentle Flow
DESCRIPTION:This is a 60 minute gentle flow\, breath work\, stretching and a biblical heart meditation.  Just what you need to reset your body\, mind and spirit. Come expecting!  Please arrive a few minutes early to sign in and find your spot. We start and end promptly so you can plan your day. I’ll have you out on time too! \n  \nFAQ:*Classes are 60 minutes*Wear loose clothing\, bring a yoga mat if you have one\, or I have some available.*Cost: $10 suggested donation*No sign-up required. Just show up!!
URL:https://www.anncates.com/class/gentle-flow-23/
LOCATION:Galloway Chiropractic\, 9410 FM 1960\, Houston\, TX\, 77070\, United States
ORGANIZER;CN="Ann Cates":MAILTO:cates.ann@gmail.com
END:VEVENT
BEGIN:VEVENT
DTSTART;VALUE=DATE:20190822
DTEND;VALUE=DATE:20190823
DTSTAMP:20260424T003240
CREATED:20190629T230620Z
LAST-MODIFIED:20190822T175250Z
UID:346-1566432000-1566518399@www.anncates.com
SUMMARY:No Thursday class on 8-22
DESCRIPTION:
URL:https://www.anncates.com/class/holy-yoga-level-1-2-4/
LOCATION:TX\, United States
ORGANIZER;CN="Ann Cates":MAILTO:cates.ann@gmail.com
END:VEVENT
BEGIN:VEVENT
DTSTART;TZID=UTC:20190820T120000
DTEND;TZID=UTC:20190820T130000
DTSTAMP:20260424T003240
CREATED:20190629T225325Z
LAST-MODIFIED:20190629T230057Z
UID:334-1566302400-1566306000@www.anncates.com
SUMMARY:Gentle Flow
DESCRIPTION:This is a 60 minute gentle flow\, breath work\, stretching and a biblical heart meditation.  Just what you need to reset your body\, mind and spirit. Come expecting!  Please arrive a few minutes early to sign in and find your spot. We start and end promptly so you can plan your day. I’ll have you out on time too! \n  \nFAQ:*Classes are 60 minutes*Wear loose clothing\, bring a yoga mat if you have one\, or I have some available.*Cost: $10 suggested donation*No sign-up required. Just show up!!
URL:https://www.anncates.com/class/gentle-flow-22/
LOCATION:TX
ORGANIZER;CN="Ann Cates":MAILTO:cates.ann@gmail.com
END:VEVENT
BEGIN:VEVENT
DTSTART;TZID=UTC:20190815T183000
DTEND;TZID=UTC:20190815T193000
DTSTAMP:20260424T003240
CREATED:20190629T225826Z
LAST-MODIFIED:20190629T225826Z
UID:344-1565893800-1565897400@www.anncates.com
SUMMARY:Holy Yoga - Level 1/2
DESCRIPTION:This is a 60 minute flow\, with more advanced postures than the gentle flow. We always do breath work\, stretching and a biblical heart meditation.  Just what you need to reset your body\, mind and spirit. Come expecting! \n  \nFAQ: \n*Classes are 60 minutes \n*Wear loose clothing\, bring a yoga mat if you have one\, or I have some available. \n*Cost: $10 suggested donation \n*No sign-up required. Just show up!!
URL:https://www.anncates.com/class/holy-yoga-level-1-2-3/
LOCATION:Galloway Chiropractic\, 9410 FM 1960\, Houston\, TX\, 77070\, United States
ORGANIZER;CN="Ann Cates":MAILTO:cates.ann@gmail.com
END:VEVENT
BEGIN:VEVENT
DTSTART;TZID=UTC:20190813T120000
DTEND;TZID=UTC:20190813T130000
DTSTAMP:20260424T003240
CREATED:20190629T225223Z
LAST-MODIFIED:20190629T230154Z
UID:332-1565697600-1565701200@www.anncates.com
SUMMARY:Gentle Flow
DESCRIPTION:This is a 60 minute gentle flow\, breath work\, stretching and a biblical heart meditation.  Just what you need to reset your body\, mind and spirit. Come expecting!  Please arrive a few minutes early to sign in and find your spot. We start and end promptly so you can plan your day. I’ll have you out on time too! \n  \nFAQ:*Classes are 60 minutes*Wear loose clothing\, bring a yoga mat if you have one\, or I have some available.*Cost: $10 suggested donation*No sign-up required. Just show up!!
URL:https://www.anncates.com/class/gentle-flow-21/
LOCATION:Galloway Chiropractic\, 9410 FM 1960\, Houston\, TX\, 77070\, United States
ORGANIZER;CN="Ann Cates":MAILTO:cates.ann@gmail.com
END:VEVENT
BEGIN:VEVENT
DTSTART;TZID=UTC:20190808T183000
DTEND;TZID=UTC:20190808T193000
DTSTAMP:20260424T003240
CREATED:20190629T225715Z
LAST-MODIFIED:20190629T230245Z
UID:342-1565289000-1565292600@www.anncates.com
SUMMARY:Holy Yoga - Level 1/2
DESCRIPTION:This is a 60 minute flow\, with more advanced postures than the gentle flow. We always do breath work\, stretching and a biblical heart meditation.  Just what you need to reset your body\, mind and spirit. Come expecting! \n  \nFAQ: \n*Classes are 60 minutes \n*Wear loose clothing\, bring a yoga mat if you have one\, or I have some available. \n*Cost: $10 suggested donation \n*No sign-up required. Just show up!!
URL:https://www.anncates.com/class/holy-yoga-level-1-2-2/
LOCATION:Galloway Chiropractic\, 9410 FM 1960\, Houston\, TX\, 77070\, United States
ORGANIZER;CN="Ann Cates":MAILTO:cates.ann@gmail.com
END:VEVENT
BEGIN:VEVENT
DTSTART;TZID=UTC:20190806T120000
DTEND;TZID=UTC:20190806T130000
DTSTAMP:20260424T003240
CREATED:20190629T225102Z
LAST-MODIFIED:20190629T230321Z
UID:330-1565092800-1565096400@www.anncates.com
SUMMARY:Gentle Flow
DESCRIPTION:This is a 60 minute gentle flow\, breath work\, stretching and a biblical heart meditation.  Just what you need to reset your body\, mind and spirit. Come expecting!  Please arrive a few minutes early to sign in and find your spot. We start and end promptly so you can plan your day. I’ll have you out on time too! \nFAQ:*Classes are 60 minutes*Wear loose clothing\, bring a yoga mat if you have one\, or I have some available.*Cost: $10 suggested donation*No sign-up required. Just show up!!
URL:https://www.anncates.com/class/gentle-flow-20/
LOCATION:Galloway Chiropractic\, 9410 FM 1960\, Houston\, TX\, 77070\, United States
ORGANIZER;CN="Ann Cates":MAILTO:cates.ann@gmail.com
END:VEVENT
END:VCALENDAR