BEGIN:VCALENDAR
VERSION:2.0
PRODID:-//Yoga with Ann - ECPv6.15.20//NONSGML v1.0//EN
CALSCALE:GREGORIAN
METHOD:PUBLISH
X-ORIGINAL-URL:https://www.anncates.com
X-WR-CALDESC:Events for Yoga with Ann
REFRESH-INTERVAL;VALUE=DURATION:PT1H
X-Robots-Tag:noindex
X-PUBLISHED-TTL:PT1H
BEGIN:VTIMEZONE
TZID:UTC
BEGIN:STANDARD
TZOFFSETFROM:+0000
TZOFFSETTO:+0000
TZNAME:UTC
DTSTART:20180101T000000
END:STANDARD
END:VTIMEZONE
BEGIN:VEVENT
DTSTART;TZID=UTC:20200312T183000
DTEND;TZID=UTC:20200312T193000
DTSTAMP:20260423T195908
CREATED:20200115T201153Z
LAST-MODIFIED:20200115T201153Z
UID:498-1584037800-1584041400@www.anncates.com
SUMMARY:Holy Yoga - Level 2
DESCRIPTION:This is a Hatha yoga intermediate level flow. We do breath work\, stretching and a biblical heart meditation. Just what we need to renew our body\, mind and spirit. Come expecting good things! Please arrive a few minutes early to sign in and find your spot. We start promptly and I’ll have you out on time too so you can plan your day! \nFAQ: \n*Wear loose clothing\, bring a water bottle and yoga mat if you have one\, or I have some available. \n*Cost: $10 suggested donation \n*No sign-up required. Just show up!!
URL:https://www.anncates.com/class/holy-yoga-level-2-6/
LOCATION:Galloway Chiropractic\, 9410 FM 1960\, Houston\, TX\, 77070\, United States
ORGANIZER;CN="Ann Cates":MAILTO:cates.ann@gmail.com
END:VEVENT
BEGIN:VEVENT
DTSTART;TZID=UTC:20200305T183000
DTEND;TZID=UTC:20200305T193000
DTSTAMP:20260423T195908
CREATED:20200115T201048Z
LAST-MODIFIED:20200115T201048Z
UID:496-1583433000-1583436600@www.anncates.com
SUMMARY:Holy Yoga - Level 2
DESCRIPTION:This is a Hatha yoga intermediate level flow. We do breath work\, stretching and a biblical heart meditation. Just what we need to renew our body\, mind and spirit. Come expecting good things! Please arrive a few minutes early to sign in and find your spot. We start promptly and I’ll have you out on time too so you can plan your day! \nFAQ: \n*Wear loose clothing\, bring a water bottle and yoga mat if you have one\, or I have some available. \n*Cost: $10 suggested donation \n*No sign-up required. Just show up!!
URL:https://www.anncates.com/class/holy-yoga-level-2-5/
LOCATION:Galloway Chiropractic\, 9410 FM 1960\, Houston\, TX\, 77070\, United States
ORGANIZER;CN="Ann Cates":MAILTO:cates.ann@gmail.com
END:VEVENT
BEGIN:VEVENT
DTSTART;TZID=UTC:20200304T183000
DTEND;TZID=UTC:20200304T193000
DTSTAMP:20260423T195908
CREATED:20200228T143534Z
LAST-MODIFIED:20200228T143534Z
UID:527-1583346600-1583350200@www.anncates.com
SUMMARY:Therapeutic Yoga
DESCRIPTION:This is a gentle class where I give personal modifications for each pose according to body type. Giving attention to what is available to us physically and start there. We’ll do a biblical heart meditation focusing on God’s goodness!  Just what we need to renew our body\, mind and spirit. Please arrive a few minutes early to sign in and find your spot. We start and end on time. \nFAQ: \n*Classes are 60 minutes \n*Wear loose clothing\, bring a water bottle and yoga mat if you have one\, or I have some available. \n*Cost: $10 suggested donation \n*No sign-up required. Just show up!!
URL:https://www.anncates.com/class/therapeutic-yoga/
LOCATION:Pure Life\, 12850 Jones Rd Ste 101\, Houston\, TX\, 77070\, United States
ORGANIZER;CN="Ann Cates":MAILTO:cates.ann@gmail.com
END:VEVENT
BEGIN:VEVENT
DTSTART;TZID=UTC:20200303T120000
DTEND;TZID=UTC:20200303T130000
DTSTAMP:20260423T195908
CREATED:20200115T193306Z
LAST-MODIFIED:20200115T193306Z
UID:469-1583236800-1583240400@www.anncates.com
SUMMARY:Gentle Holy Yoga
DESCRIPTION:This is a Hatha yoga gentle flow with breath work\, stretching and a biblical heart meditation.  Just what we need to renew our body\, mind and spirit. Come expecting good things!  Please arrive a few minutes early to sign in and find your spot. We start promptly and I’ll have you out on time too so you can plan your day! \nFAQ: \n*Classes are 60 minutes \n*Wear loose clothing\, bring a water bottle and yoga mat if you have one\, or I have some available. \n*Cost: $10 suggested donation \n*No sign-up required. Just show up!!
URL:https://www.anncates.com/class/gentle-holy-yoga-28/
LOCATION:Galloway Chiropractic\, 9410 FM 1960\, Houston\, TX\, 77070\, United States
ORGANIZER;CN="Ann Cates":MAILTO:cates.ann@gmail.com
END:VEVENT
BEGIN:VEVENT
DTSTART;TZID=UTC:20200227T183000
DTEND;TZID=UTC:20200227T193000
DTSTAMP:20260423T195908
CREATED:20200115T200937Z
LAST-MODIFIED:20200115T200937Z
UID:494-1582828200-1582831800@www.anncates.com
SUMMARY:Holy Yoga - Level 2
DESCRIPTION:This is a Hatha yoga intermediate level flow. We do breath work\, stretching and a biblical heart meditation. Just what we need to renew our body\, mind and spirit. Come expecting good things! Please arrive a few minutes early to sign in and find your spot. We start promptly and I’ll have you out on time too so you can plan your day! \nFAQ: \n*Wear loose clothing\, bring a water bottle and yoga mat if you have one\, or I have some available. \n*Cost: $10 suggested donation \n*No sign-up required. Just show up!!
URL:https://www.anncates.com/class/holy-yoga-level-2-4/
LOCATION:Galloway Chiropractic\, 9410 FM 1960\, Houston\, TX\, 77070\, United States
ORGANIZER;CN="Ann Cates":MAILTO:cates.ann@gmail.com
END:VEVENT
BEGIN:VEVENT
DTSTART;TZID=UTC:20200226T183000
DTEND;TZID=UTC:20200226T193000
DTSTAMP:20260423T195908
CREATED:20200205T204339Z
LAST-MODIFIED:20200205T204836Z
UID:519-1582741800-1582745400@www.anncates.com
SUMMARY:Yoga 101
DESCRIPTION:I’m excited to offer yoga 101 at Dr. Tabor and Gina Smith’s office.  Join us for a Hatha yoga gentle flow with breath work\, stretching and a biblical heart meditation.  It’s yoga for everyone!  Just what we need to strengthen and renew our body\, mind and spirit. Come expecting good things!  Please arrive a few minutes early to sign in and find your spot. We start promptly and I’ll have you out on time too so you can plan your day! \nFAQ: \n*Classes are 60 minutes \n*Wear loose or yoga clothing\, bring a water bottle and yoga mat if you have one\, or I have some available. \n*Cost: $10 suggested donation \n*No sign-up required. Just show up!!  Feel free to contact me if you have questions.
URL:https://www.anncates.com/class/yoga-101-2/
LOCATION:Pure Life\, 12850 Jones Rd Ste 101\, Houston\, TX\, 77070\, United States
ORGANIZER;CN="Ann Cates":MAILTO:cates.ann@gmail.com
END:VEVENT
BEGIN:VEVENT
DTSTART;TZID=UTC:20200225T120000
DTEND;TZID=UTC:20200225T130000
DTSTAMP:20260423T195908
CREATED:20200115T193134Z
LAST-MODIFIED:20200115T193134Z
UID:466-1582632000-1582635600@www.anncates.com
SUMMARY:Gentle Holy Yoga
DESCRIPTION:This is a Hatha yoga gentle flow with breath work\, stretching and a biblical heart meditation.  Just what we need to renew our body\, mind and spirit. Come expecting good things!  Please arrive a few minutes early to sign in and find your spot. We start promptly and I’ll have you out on time too so you can plan your day! \nFAQ: \n*Classes are 60 minutes \n*Wear loose clothing\, bring a water bottle and yoga mat if you have one\, or I have some available. \n*Cost: $10 suggested donation \n*No sign-up required. Just show up!!
URL:https://www.anncates.com/class/gentle-holy-yoga-27/
LOCATION:Galloway Chiropractic\, 9410 FM 1960\, Houston\, TX\, 77070\, United States
ORGANIZER;CN="Ann Cates":MAILTO:cates.ann@gmail.com
END:VEVENT
BEGIN:VEVENT
DTSTART;TZID=UTC:20200220T183000
DTEND;TZID=UTC:20200220T193000
DTSTAMP:20260423T195908
CREATED:20200115T200806Z
LAST-MODIFIED:20200115T200806Z
UID:492-1582223400-1582227000@www.anncates.com
SUMMARY:Holy Yoga - Level 2
DESCRIPTION:This is a Hatha yoga intermediate level flow. We do breath work\, stretching and a biblical heart meditation. Just what we need to renew our body\, mind and spirit. Come expecting good things! Please arrive a few minutes early to sign in and find your spot. We start promptly and I’ll have you out on time too so you can plan your day! \nFAQ: \n*Wear loose clothing\, bring a water bottle and yoga mat if you have one\, or I have some available. \n*Cost: $10 suggested donation \n*No sign-up required. Just show up!!
URL:https://www.anncates.com/class/holy-yoga-level-2-3/
LOCATION:Galloway Chiropractic\, 9410 FM 1960\, Houston\, TX\, 77070\, United States
ORGANIZER;CN="Ann Cates":MAILTO:cates.ann@gmail.com
END:VEVENT
BEGIN:VEVENT
DTSTART;TZID=UTC:20200219T183000
DTEND;TZID=UTC:20200219T193000
DTSTAMP:20260423T195908
CREATED:20200205T204238Z
LAST-MODIFIED:20200205T204730Z
UID:517-1582137000-1582140600@www.anncates.com
SUMMARY:Yoga 101
DESCRIPTION:I’m excited to offer yoga 101 at Dr. Tabor and Gina Smith’s office.  Join us for a Hatha yoga gentle flow with breath work\, stretching and a biblical heart meditation.  It’s yoga for everyone!  Just what we need to strengthen and renew our body\, mind and spirit. Come expecting good things!  Please arrive a few minutes early to sign in and find your spot. We start promptly and I’ll have you out on time too so you can plan your day! \nFAQ: \n*Classes are 60 minutes \n*Wear loose or yoga clothing\, bring a water bottle and yoga mat if you have one\, or I have some available. \n*Cost: $10 suggested donation \n*No sign-up required. Just show up!!  Feel free to contact me if you have questions.
URL:https://www.anncates.com/class/yoga-101/
LOCATION:Pure Life\, 12850 Jones Rd Ste 101\, Houston\, TX\, 77070\, United States
ORGANIZER;CN="Ann Cates":MAILTO:cates.ann@gmail.com
END:VEVENT
BEGIN:VEVENT
DTSTART;TZID=UTC:20200218T120000
DTEND;TZID=UTC:20200218T130000
DTSTAMP:20260423T195908
CREATED:20200115T192951Z
LAST-MODIFIED:20200115T192951Z
UID:464-1582027200-1582030800@www.anncates.com
SUMMARY:Gentle Holy Yoga
DESCRIPTION:This is a Hatha yoga gentle flow with breath work\, stretching and a biblical heart meditation.  Just what we need to renew our body\, mind and spirit. Come expecting good things!  Please arrive a few minutes early to sign in and find your spot. We start promptly and I’ll have you out on time too so you can plan your day! \nFAQ: \n*Classes are 60 minutes \n*Wear loose clothing\, bring a water bottle and yoga mat if you have one\, or I have some available. \n*Cost: $10 suggested donation \n*No sign-up required. Just show up!!
URL:https://www.anncates.com/class/gentle-holy-yoga-26/
LOCATION:Galloway Chiropractic\, 9410 FM 1960\, Houston\, TX\, 77070\, United States
ORGANIZER;CN="Ann Cates":MAILTO:cates.ann@gmail.com
END:VEVENT
BEGIN:VEVENT
DTSTART;TZID=UTC:20200213T183000
DTEND;TZID=UTC:20200213T193000
DTSTAMP:20260423T195908
CREATED:20200115T200658Z
LAST-MODIFIED:20200115T200658Z
UID:490-1581618600-1581622200@www.anncates.com
SUMMARY:Holy Yoga - Level 2
DESCRIPTION:This is a Hatha yoga intermediate level flow. We do breath work\, stretching and a biblical heart meditation. Just what we need to renew our body\, mind and spirit. Come expecting good things! Please arrive a few minutes early to sign in and find your spot. We start promptly and I’ll have you out on time too so you can plan your day! \nFAQ: \n*Wear loose clothing\, bring a water bottle and yoga mat if you have one\, or I have some available. \n*Cost: $10 suggested donation \n*No sign-up required. Just show up!!
URL:https://www.anncates.com/class/holy-yoga-level-2-2/
LOCATION:Galloway Chiropractic\, 9410 FM 1960\, Houston\, TX\, 77070\, United States
ORGANIZER;CN="Ann Cates":MAILTO:cates.ann@gmail.com
END:VEVENT
BEGIN:VEVENT
DTSTART;TZID=UTC:20200212T183000
DTEND;TZID=UTC:20200212T193000
DTSTAMP:20260423T195908
CREATED:20200205T203912Z
LAST-MODIFIED:20200205T204655Z
UID:512-1581532200-1581535800@www.anncates.com
SUMMARY:Yoga 101
DESCRIPTION:I’m excited to offer yoga 101 at Dr. Tabor and Gina Smith’s office.  Join us for a Hatha yoga gentle flow with breath work\, stretching and a biblical heart meditation.  It’s yoga for everyone!  Just what we need to strengthen and renew our body\, mind and spirit. Come expecting good things!  Please arrive a few minutes early to sign in and find your spot. We start promptly and I’ll have you out on time too so you can plan your day! \nFAQ: \n*Classes are 60 minutes \n*Wear loose or yoga clothing\, bring a water bottle and yoga mat if you have one\, or I have some available. \n*Cost: $10 suggested donation \n*No sign-up required. Just show up!!  Feel free to contact me if you have questions.
URL:https://www.anncates.com/class/beginners-yoga-class/
LOCATION:Pure Life\, 12850 Jones Rd Ste 101\, Houston\, TX\, 77070\, United States
ORGANIZER;CN="Ann Cates":MAILTO:cates.ann@gmail.com
END:VEVENT
BEGIN:VEVENT
DTSTART;TZID=UTC:20200211T120000
DTEND;TZID=UTC:20200211T130000
DTSTAMP:20260423T195908
CREATED:20200115T192815Z
LAST-MODIFIED:20200115T192815Z
UID:462-1581422400-1581426000@www.anncates.com
SUMMARY:Gentle Holy Yoga
DESCRIPTION:This is a Hatha yoga gentle flow with breath work\, stretching and a biblical heart meditation.  Just what we need to renew our body\, mind and spirit. Come expecting good things!  Please arrive a few minutes early to sign in and find your spot. We start promptly and I’ll have you out on time too so you can plan your day! \nFAQ: \n*Classes are 60 minutes \n*Wear loose clothing\, bring a water bottle and yoga mat if you have one\, or I have some available. \n*Cost: $10 suggested donation \n*No sign-up required. Just show up!!
URL:https://www.anncates.com/class/gentle-holy-yoga-25/
LOCATION:Bayou City Fellowship Cypress\, 12715 Telge Rd\, Cypress\, TX\, 77429\, United States
ORGANIZER;CN="Ann Cates":MAILTO:cates.ann@gmail.com
END:VEVENT
BEGIN:VEVENT
DTSTART;TZID=UTC:20200206T183000
DTEND;TZID=UTC:20200206T193000
DTSTAMP:20260423T195908
CREATED:20200115T200357Z
LAST-MODIFIED:20200115T200357Z
UID:485-1581013800-1581017400@www.anncates.com
SUMMARY:Holy Yoga - Level 2
DESCRIPTION:This is a Hatha yoga intermediate level flow. We do breath work\, stretching and a biblical heart meditation. Just what we need to renew our body\, mind and spirit. Come expecting good things! Please arrive a few minutes early to sign in and find your spot. We start promptly and I’ll have you out on time too so you can plan your day! \nFAQ: \n*Wear loose clothing\, bring a water bottle and yoga mat if you have one\, or I have some available. \n*Cost: $10 suggested donation \n*No sign-up required. Just show up!!
URL:https://www.anncates.com/class/holy-yoga-level-2/
LOCATION:Galloway Chiropractic\, 9410 FM 1960\, Houston\, TX\, 77070\, United States
ORGANIZER;CN="Ann Cates":MAILTO:cates.ann@gmail.com
END:VEVENT
BEGIN:VEVENT
DTSTART;TZID=UTC:20200204T120000
DTEND;TZID=UTC:20200204T130000
DTSTAMP:20260423T195908
CREATED:20200115T192555Z
LAST-MODIFIED:20200115T192555Z
UID:460-1580817600-1580821200@www.anncates.com
SUMMARY:Gentle Holy Yoga
DESCRIPTION:This is a Hatha yoga gentle flow with breath work\, stretching and a biblical heart meditation.  Just what we need to renew our body\, mind and spirit. Come expecting good things!  Please arrive a few minutes early to sign in and find your spot. We start promptly and I’ll have you out on time too so you can plan your day! \nFAQ: \n*Classes are 60 minutes \n*Wear loose clothing\, bring a water bottle and yoga mat if you have one\, or I have some available. \n*Cost: $10 suggested donation \n*No sign-up required. Just show up!!
URL:https://www.anncates.com/class/gentle-holy-yoga-24/
LOCATION:Galloway Chiropractic\, 9410 FM 1960\, Houston\, TX\, 77070\, United States
ORGANIZER;CN="Ann Cates":MAILTO:cates.ann@gmail.com
END:VEVENT
BEGIN:VEVENT
DTSTART;TZID=UTC:20200130T183000
DTEND;TZID=UTC:20200130T193000
DTSTAMP:20260423T195908
CREATED:20200115T200245Z
LAST-MODIFIED:20200115T200440Z
UID:483-1580409000-1580412600@www.anncates.com
SUMMARY:Holy Yoga - Level 2
DESCRIPTION:This is a Hatha yoga intermediate level flow. We do breath work\, stretching and a biblical heart meditation. Just what we need to renew our body\, mind and spirit. Come expecting good things! Please arrive a few minutes early to sign in and find your spot. We start promptly and I’ll have you out on time too so you can plan your day! \nFAQ: \n*Wear loose clothing\, bring a water bottle and yoga mat if you have one\, or I have some available. \n*Cost: $10 suggested donation \n*No sign-up required. Just show up!!
URL:https://www.anncates.com/class/holy-yoga-intermediate-level-3/
LOCATION:Galloway Chiropractic\, 9410 FM 1960\, Houston\, TX\, 77070\, United States
ORGANIZER;CN="Ann Cates":MAILTO:cates.ann@gmail.com
END:VEVENT
BEGIN:VEVENT
DTSTART;TZID=UTC:20200128T120000
DTEND;TZID=UTC:20200128T130000
DTSTAMP:20260423T195908
CREATED:20200115T192411Z
LAST-MODIFIED:20200115T192411Z
UID:458-1580212800-1580216400@www.anncates.com
SUMMARY:Gentle Holy Yoga
DESCRIPTION:This is a Hatha yoga gentle flow with breath work\, stretching and a biblical heart meditation.  Just what we need to renew our body\, mind and spirit. Come expecting good things!  Please arrive a few minutes early to sign in and find your spot. We start promptly and I’ll have you out on time too so you can plan your day! \nFAQ: \n*Classes are 60 minutes \n*Wear loose clothing\, bring a water bottle and yoga mat if you have one\, or I have some available. \n*Cost: $10 suggested donation \n*No sign-up required. Just show up!!
URL:https://www.anncates.com/class/gentle-holy-yoga-23/
LOCATION:Galloway Chiropractic\, 9410 FM 1960\, Houston\, TX\, 77070\, United States
ORGANIZER;CN="Ann Cates":MAILTO:cates.ann@gmail.com
END:VEVENT
BEGIN:VEVENT
DTSTART;TZID=UTC:20200123T183000
DTEND;TZID=UTC:20200123T193000
DTSTAMP:20260423T195908
CREATED:20200115T200051Z
LAST-MODIFIED:20200115T200510Z
UID:481-1579804200-1579807800@www.anncates.com
SUMMARY:Holy Yoga - Level 2
DESCRIPTION:This is a Hatha yoga intermediate level flow. We do breath work\, stretching and a biblical heart meditation. Just what we need to renew our body\, mind and spirit. Come expecting good things! Please arrive a few minutes early to sign in and find your spot. We start promptly and I’ll have you out on time too so you can plan your day! \nFAQ: \n*Wear loose clothing\, bring a water bottle and yoga mat if you have one\, or I have some available. \n*Cost: $10 suggested donation \n*No sign-up required. Just show up!!
URL:https://www.anncates.com/class/holy-yoga-intermediate-level-2/
LOCATION:Galloway Chiropractic\, 9410 FM 1960\, Houston\, TX\, 77070\, United States
ORGANIZER;CN="Ann Cates":MAILTO:cates.ann@gmail.com
END:VEVENT
BEGIN:VEVENT
DTSTART;TZID=UTC:20200121T120000
DTEND;TZID=UTC:20200121T130000
DTSTAMP:20260423T195908
CREATED:20200115T191832Z
LAST-MODIFIED:20200115T191832Z
UID:453-1579608000-1579611600@www.anncates.com
SUMMARY:Gentle Holy Yoga
DESCRIPTION:This is a Hatha yoga gentle flow with breath work\, stretching and a biblical heart meditation.  Just what we need to renew our body\, mind and spirit. Come expecting good things!  Please arrive a few minutes early to sign in and find your spot. We start promptly and I’ll have you out on time too so you can plan your day! \nFAQ: \n*Classes are 60 minutes \n*Wear loose clothing\, bring a water bottle and yoga mat if you have one\, or I have some available. \n*Cost: $10 suggested donation \n*No sign-up required. Just show up!!
URL:https://www.anncates.com/class/gentle-holy-yoga-22/
LOCATION:Galloway Chiropractic\, 9410 FM 1960\, Houston\, TX\, 77070\, United States
ORGANIZER;CN="Ann Cates":MAILTO:cates.ann@gmail.com
END:VEVENT
BEGIN:VEVENT
DTSTART;TZID=UTC:20200116T183000
DTEND;TZID=UTC:20200116T193000
DTSTAMP:20260423T195908
CREATED:20200115T195910Z
LAST-MODIFIED:20200115T200544Z
UID:479-1579199400-1579203000@www.anncates.com
SUMMARY:Holy Yoga - Level 2
DESCRIPTION:This is a Hatha yoga intermediate level flow. We do breath work\, stretching and a biblical heart meditation. Just what we need to renew our body\, mind and spirit. Come expecting good things! Please arrive a few minutes early to sign in and find your spot. We start promptly and I’ll have you out on time too so you can plan your day! \nFAQ: \n*Wear loose clothing\, bring a water bottle and yoga mat if you have one\, or I have some available. \n*Cost: $10 suggested donation \n*No sign-up required. Just show up!!
URL:https://www.anncates.com/class/holy-yoga-intermediate-level/
LOCATION:Galloway Chiropractic\, 9410 FM 1960\, Houston\, TX\, 77070\, United States
ORGANIZER;CN="Ann Cates":MAILTO:cates.ann@gmail.com
END:VEVENT
BEGIN:VEVENT
DTSTART;TZID=UTC:20191219T183000
DTEND;TZID=UTC:20191219T193000
DTSTAMP:20260423T195908
CREATED:20191104T194834Z
LAST-MODIFIED:20191209T151628Z
UID:443-1576780200-1576783800@www.anncates.com
SUMMARY:Gentle Holy Yoga
DESCRIPTION:This is a 60 minute gentle flow\, breath work\, stretching and a biblical heart meditation.  Just what you need to reset your body\, mind and spirit. Come expecting!  Please arrive a few minutes early to sign in and find your spot. We start and end promptly so you can plan your day. I’ll have you out on time too!\nFAQ:\n*Classes are 60 minutes\n*Wear loose clothing\, bring a yoga mat if you have one\, or I have some available.\n*Cost: $10 suggested donation\n*No sign-up required. Just show up!!
URL:https://www.anncates.com/class/holy-yoga-level-two-15/
LOCATION:Galloway Chiropractic\, 9410 FM 1960\, Houston\, TX\, 77070\, United States
ORGANIZER;CN="Ann Cates":MAILTO:cates.ann@gmail.com
END:VEVENT
BEGIN:VEVENT
DTSTART;TZID=UTC:20191217T120000
DTEND;TZID=UTC:20191217T130000
DTSTAMP:20260423T195908
CREATED:20191104T194036Z
LAST-MODIFIED:20191104T194036Z
UID:437-1576584000-1576587600@www.anncates.com
SUMMARY:Gentle Holy Yoga
DESCRIPTION:This is a 60 minute gentle flow\, breath work\, stretching and a biblical heart meditation.  Just what you need to reset your body\, mind and spirit. Come expecting!  Please arrive a few minutes early to sign in and find your spot. We start and end promptly so you can plan your day. I’ll have you out on time too! \nFAQ: \n*Classes are 60 minutes \n*Wear loose clothing\, bring a yoga mat if you have one\, or I have some available. \n*Cost: $10 suggested donation \n*No sign-up required. Just show up!!
URL:https://www.anncates.com/class/gentle-holy-yoga-21/
LOCATION:Galloway Chiropractic\, 9410 FM 1960\, Houston\, TX\, 77070\, United States
ORGANIZER;CN="Ann Cates":MAILTO:cates.ann@gmail.com
END:VEVENT
BEGIN:VEVENT
DTSTART;TZID=UTC:20191212T183000
DTEND;TZID=UTC:20191212T183000
DTSTAMP:20260423T195909
CREATED:20191104T193910Z
LAST-MODIFIED:20191209T151419Z
UID:435-1576175400-1576175400@www.anncates.com
SUMMARY:Gentle Holy Yoga
DESCRIPTION:This is a 60 minute gentle flow\, breath work\, stretching and a biblical heart meditation.  Just what you need to reset your body\, mind and spirit. Come expecting!  Please arrive a few minutes early to sign in and find your spot. We start and end promptly so you can plan your day. I’ll have you out on time too! \nFAQ: \n*Classes are 60 minutes \n*Wear loose clothing\, bring a yoga mat if you have one\, or I have some available. \n*Cost: $10 suggested donation \n*No sign-up required. Just show up!!
URL:https://www.anncates.com/class/gentle-holy-yoga-20/
LOCATION:Galloway Chiropractic\, 9410 FM 1960\, Houston\, TX\, 77070\, United States
ORGANIZER;CN="Ann Cates":MAILTO:cates.ann@gmail.com
END:VEVENT
BEGIN:VEVENT
DTSTART;TZID=UTC:20191203T120000
DTEND;TZID=UTC:20191203T130000
DTSTAMP:20260423T195909
CREATED:20191104T193750Z
LAST-MODIFIED:20191104T193750Z
UID:432-1575374400-1575378000@www.anncates.com
SUMMARY:Gentle Holy Yoga
DESCRIPTION:This is a 60 minute gentle flow\, breath work\, stretching and a biblical heart meditation.  Just what you need to reset your body\, mind and spirit. Come expecting!  Please arrive a few minutes early to sign in and find your spot. We start and end promptly so you can plan your day. I’ll have you out on time too! \nFAQ: \n*Classes are 60 minutes \n*Wear loose clothing\, bring a yoga mat if you have one\, or I have some available. \n*Cost: $10 suggested donation \n*No sign-up required. Just show up!!
URL:https://www.anncates.com/class/gentle-holy-yoga-19/
LOCATION:Galloway Chiropractic\, 9410 FM 1960\, Houston\, TX\, 77070\, United States
ORGANIZER;CN="Ann Cates":MAILTO:cates.ann@gmail.com
END:VEVENT
BEGIN:VEVENT
DTSTART;VALUE=DATE:20191128
DTEND;VALUE=DATE:20191129
DTSTAMP:20260423T195909
CREATED:20191104T193454Z
LAST-MODIFIED:20191104T193454Z
UID:430-1574899200-1574985599@www.anncates.com
SUMMARY:Thanksgiving Holiday
DESCRIPTION:No yoga today\, enjoy your family!!
URL:https://www.anncates.com/class/thanksgiving-holiday/
LOCATION:TX
END:VEVENT
BEGIN:VEVENT
DTSTART;TZID=UTC:20191126T120000
DTEND;TZID=UTC:20191126T130000
DTSTAMP:20260423T195909
CREATED:20191104T192836Z
LAST-MODIFIED:20191104T192836Z
UID:421-1574769600-1574773200@www.anncates.com
SUMMARY:Gentle Holy Yoga
DESCRIPTION:This is a 60 minute gentle flow\, breath work\, stretching and a biblical heart meditation.  Just what you need to reset your body\, mind and spirit. Come expecting!  Please arrive a few minutes early to sign in and find your spot. We start and end promptly so you can plan your day. I’ll have you out on time too! \nFAQ: \n*Classes are 60 minutes \n*Wear loose clothing\, bring a yoga mat if you have one\, or I have some available. \n*Cost: $10 suggested donation \n*No sign-up required. Just show up!!
URL:https://www.anncates.com/class/gentle-holy-yoga-18/
LOCATION:Galloway Chiropractic\, 9410 FM 1960\, Houston\, TX\, 77070\, United States
ORGANIZER;CN="Ann Cates":MAILTO:cates.ann@gmail.com
END:VEVENT
BEGIN:VEVENT
DTSTART;TZID=UTC:20191121T183000
DTEND;TZID=UTC:20191121T193000
DTSTAMP:20260423T195909
CREATED:20191104T193243Z
LAST-MODIFIED:20191104T193243Z
UID:428-1574361000-1574364600@www.anncates.com
SUMMARY:Holy Yoga - Level Two
DESCRIPTION:This is a 60 minute flow\, with more advanced postures than the gentle flow. We always do breath work\, stretching and a biblical heart meditation. Just what you need to reset your body\, mind and spirit. Come expecting! \nFAQ:\n*Classes are 60 minutes\n*Wear loose clothing\, bring a yoga mat if you have one\, or I have some available.\n*Cost: $10 suggested donation\n*No sign-up required. Just show up!!
URL:https://www.anncates.com/class/holy-yoga-level-two-12/
LOCATION:Galloway Chiropractic\, 9410 FM 1960\, Houston\, TX\, 77070\, United States
ORGANIZER;CN="Ann Cates":MAILTO:cates.ann@gmail.com
END:VEVENT
BEGIN:VEVENT
DTSTART;TZID=UTC:20191119T120000
DTEND;TZID=UTC:20191119T130000
DTSTAMP:20260423T195909
CREATED:20191104T192719Z
LAST-MODIFIED:20191104T192719Z
UID:419-1574164800-1574168400@www.anncates.com
SUMMARY:Gentle Holy Yoga
DESCRIPTION:This is a 60 minute gentle flow\, breath work\, stretching and a biblical heart meditation.  Just what you need to reset your body\, mind and spirit. Come expecting!  Please arrive a few minutes early to sign in and find your spot. We start and end promptly so you can plan your day. I’ll have you out on time too! \nFAQ: \n*Classes are 60 minutes \n*Wear loose clothing\, bring a yoga mat if you have one\, or I have some available. \n*Cost: $10 suggested donation \n*No sign-up required. Just show up!!
URL:https://www.anncates.com/class/gentle-holy-yoga-17/
LOCATION:Galloway Chiropractic\, 9410 FM 1960\, Houston\, TX\, 77070\, United States
ORGANIZER;CN="Ann Cates":MAILTO:cates.ann@gmail.com
END:VEVENT
BEGIN:VEVENT
DTSTART;TZID=UTC:20191114T080000
DTEND;TZID=UTC:20191114T170000
DTSTAMP:20260423T195909
CREATED:20191104T193134Z
LAST-MODIFIED:20191104T193134Z
UID:426-1573718400-1573750800@www.anncates.com
SUMMARY:Holy Yoga - Level Two
DESCRIPTION:This is a 60 minute flow\, with more advanced postures than the gentle flow. We always do breath work\, stretching and a biblical heart meditation. Just what you need to reset your body\, mind and spirit. Come expecting! \nFAQ:\n*Classes are 60 minutes\n*Wear loose clothing\, bring a yoga mat if you have one\, or I have some available.\n*Cost: $10 suggested donation\n*No sign-up required. Just show up!!
URL:https://www.anncates.com/class/holy-yoga-level-two-11/
LOCATION:Galloway Chiropractic\, 9410 FM 1960\, Houston\, TX\, 77070\, United States
ORGANIZER;CN="Ann Cates":MAILTO:cates.ann@gmail.com
END:VEVENT
BEGIN:VEVENT
DTSTART;TZID=UTC:20191112T120000
DTEND;TZID=UTC:20191112T130000
DTSTAMP:20260423T195909
CREATED:20191104T192604Z
LAST-MODIFIED:20191104T192604Z
UID:417-1573560000-1573563600@www.anncates.com
SUMMARY:Gentle Holy Yoga
DESCRIPTION:This is a 60 minute gentle flow\, breath work\, stretching and a biblical heart meditation.  Just what you need to reset your body\, mind and spirit. Come expecting!  Please arrive a few minutes early to sign in and find your spot. We start and end promptly so you can plan your day. I’ll have you out on time too! \nFAQ: \n*Classes are 60 minutes \n*Wear loose clothing\, bring a yoga mat if you have one\, or I have some available. \n*Cost: $10 suggested donation \n*No sign-up required. Just show up!!
URL:https://www.anncates.com/class/gentle-holy-yoga-16/
LOCATION:Galloway Chiropractic\, 9410 FM 1960\, Houston\, TX\, 77070\, United States
ORGANIZER;CN="Ann Cates":MAILTO:cates.ann@gmail.com
END:VEVENT
END:VCALENDAR