BEGIN:VCALENDAR
VERSION:2.0
PRODID:-//Yoga with Ann - ECPv6.15.20//NONSGML v1.0//EN
CALSCALE:GREGORIAN
METHOD:PUBLISH
X-WR-CALNAME:Yoga with Ann
X-ORIGINAL-URL:https://www.anncates.com
X-WR-CALDESC:Events for Yoga with Ann
REFRESH-INTERVAL;VALUE=DURATION:PT1H
X-Robots-Tag:noindex
X-PUBLISHED-TTL:PT1H
BEGIN:VTIMEZONE
TZID:UTC
BEGIN:STANDARD
TZOFFSETFROM:+0000
TZOFFSETTO:+0000
TZNAME:UTC
DTSTART:20240101T000000
END:STANDARD
END:VTIMEZONE
BEGIN:VEVENT
DTSTART;TZID=UTC:20251112T130000
DTEND;TZID=UTC:20251112T140000
DTSTAMP:20260423T213549
CREATED:20251015T165920Z
LAST-MODIFIED:20251015T165920Z
UID:1131-1762952400-1762956000@www.anncates.com
SUMMARY:Chair Yoga with Bible Meditation
DESCRIPTION:This is a 55+ community of believers. We meet the 2nd and 4th Wednesday of the month and RSVP is required. When you rsvp\, I’ll give directions. Everyone is welcome! \nWhy we gather: \n\nConnect with God\nPractice complete yogic breath\nHonor your Body- everything is an option. You are always in control because you know what your body needs\nRelease your expectations – never say should!\nRemove any sense of competition\n\nWhat to expect: \n\nWord and warm up\nStanding postures\nStillness
URL:https://www.anncates.com/class/chair-yoga-with-bible-meditation-2/
LOCATION:Faithbridge\, 18000 Stuebner Airline Rd.\, Spring\, TX\, 77379\, United States
CATEGORIES:chair yoga
ATTACH;FMTTYPE=image/webp:https://www.anncates.com/wp-content/uploads/2025/10/yoga-eagle.webp
ORGANIZER;CN="Ann Cates":MAILTO:cates.ann@gmail.com
END:VEVENT
BEGIN:VEVENT
DTSTART;TZID=UTC:20251022T130000
DTEND;TZID=UTC:20251022T140000
DTSTAMP:20260423T213549
CREATED:20251015T164901Z
LAST-MODIFIED:20251015T165227Z
UID:1122-1761138000-1761141600@www.anncates.com
SUMMARY:Chair Yoga with Bible Meditation
DESCRIPTION:This is a 55+ community of believers. We meet the 2nd and 4th Wednesday of the month and RSVP is required. When you rsvp\, I’ll give directions. Everyone is welcome! \nWhy we gather: \n\nConnect with God\nPractice complete yogic breath\nHonor your Body- everything is an option. You are always in control because you know what your body needs\nRelease your expectations – never say should!\nRemove any sense of competition\n\nWhat to expect: \n\nWord and warm up\nStanding postures\nStillness
URL:https://www.anncates.com/class/chair-yoga-with-bible-meditation/
LOCATION:Faithbridge\, 18000 Stuebner Airline Rd.\, Spring\, TX\, 77379\, United States
CATEGORIES:chair yoga
ATTACH;FMTTYPE=image/webp:https://www.anncates.com/wp-content/uploads/2025/10/pigeonposechairyoga.webp
ORGANIZER;CN="Ann Cates":MAILTO:cates.ann@gmail.com
END:VEVENT
END:VCALENDAR